BEGIN:VCALENDAR
VERSION:2.0
PRODID:-//UECNJ - ECPv6.15.20//NONSGML v1.0//EN
CALSCALE:GREGORIAN
METHOD:PUBLISH
X-WR-CALNAME:UECNJ
X-ORIGINAL-URL:https://uecnj.org
X-WR-CALDESC:Events for UECNJ
REFRESH-INTERVAL;VALUE=DURATION:PT1H
X-Robots-Tag:noindex
X-PUBLISHED-TTL:PT1H
BEGIN:VTIMEZONE
TZID:America/New_York
BEGIN:DAYLIGHT
TZOFFSETFROM:-0500
TZOFFSETTO:-0400
TZNAME:EDT
DTSTART:20230312T070000
END:DAYLIGHT
BEGIN:STANDARD
TZOFFSETFROM:-0400
TZOFFSETTO:-0500
TZNAME:EST
DTSTART:20231105T060000
END:STANDARD
BEGIN:DAYLIGHT
TZOFFSETFROM:-0500
TZOFFSETTO:-0400
TZNAME:EDT
DTSTART:20240310T070000
END:DAYLIGHT
BEGIN:STANDARD
TZOFFSETFROM:-0400
TZOFFSETTO:-0500
TZNAME:EST
DTSTART:20241103T060000
END:STANDARD
BEGIN:DAYLIGHT
TZOFFSETFROM:-0500
TZOFFSETTO:-0400
TZNAME:EDT
DTSTART:20250309T070000
END:DAYLIGHT
BEGIN:STANDARD
TZOFFSETFROM:-0400
TZOFFSETTO:-0500
TZNAME:EST
DTSTART:20251102T060000
END:STANDARD
END:VTIMEZONE
BEGIN:VEVENT
DTSTART;TZID=America/New_York:20241214T130000
DTEND;TZID=America/New_York:20241214T160000
DTSTAMP:20260424T020045
CREATED:20241211T160101Z
LAST-MODIFIED:20241211T160101Z
UID:1358-1734181200-1734192000@uecnj.org
SUMMARY:Fish Fry Fundraiser & Toy Drive | December 14\, 2024 | Masjid A-Haqq
DESCRIPTION:Join us for a Fish Fry Fundraiser & Toy Drive on December 14\, 2024\, at Masjid A-Haqq in Newark\, NJ. This exciting event will take place from 1:00 PM to 4:00 PM\, where you can enjoy a delicious fish sandwich\, dessert\, and drink\, all for just $15. We also ask for your support with a Toy Drive—bring a new\, unwrapped toy (ages 0-17) to help make the 2025 Eid celebrations special for children in our community. All proceeds will go towards supporting our community efforts. \nDate & Time:\nDecember 14\, 2024\, from 1:00 PM to 4:00 PM. \nLocation:\nMasjid A-Haqq\, 687 Springfield Avenue\, Newark\, NJ 07103. \nMenu: \n\nFish Sandwich\nDessert\nDrink\n\nTicket Price: $15 (per meal) \nFor more information\, contact: \n\n973-752-4630 or 973-953-5692.\n\nDon’t miss this chance to support a great cause while enjoying some fantastic food and community spirit! \n 
URL:https://uecnj.org/event/fish-fry-fundraiser-toy-drive-december-14-2024-masjid-a-haqq/
LOCATION:Masjid Al Haqq\, 687 Springfield Ave\, Newark\, NJ\, 07103\, United States
CATEGORIES:General Events
ATTACH;FMTTYPE=image/jpeg:https://uecnj.org/wp-content/uploads/2024/12/Fish-Fry-Fundraiser-Toy-Drive.jpg
END:VEVENT
END:VCALENDAR